BEGIN:VCALENDAR
VERSION:2.0
PRODID:-//Elena Schwarz - ECPv4.6//NONSGML v1.0//EN
CALSCALE:GREGORIAN
METHOD:PUBLISH
X-WR-CALNAME:Elena Schwarz
X-ORIGINAL-URL:http://elenaschwarz.com
X-WR-CALDESC:Events for Elena Schwarz
BEGIN:VEVENT
DTSTART;TZID=UTC+2:20250801T110000
DTEND;TZID=UTC+2:20250801T130000
DTSTAMP:20260423T042701
CREATED:20250529T203943Z
LAST-MODIFIED:20250529T204015Z
UID:1617-1754046000-1754053200@elenaschwarz.com
SUMMARY:Swiss National Orchestra
DESCRIPTION:Hans Huber (1852-1921) | Tell-Sinfonie\, 1. Satz\nSergej Rachmaninow (1873-1943) | Der Felsen (1893)\nRichard Wagner (1813 – 1883): Tristan und Isolde | Präludium\nRichard Wagner (1813-1883) | Siegfried Waldweben\nPiotr I. Tschaikowsky (1840 – 1893): Walzer von Eugen Onegin\nArthur Honegger (1892-1955) | Pazifik 231\nGioachino Rossini (1792-1868) | Ouvertüre zur Oper “Wilhelm Tell”\n\nSwiss National Orchestra \nElena Schwarz\, Dirgentin\n\n\n\n\n\n\n\n\n\n	Related\n
URL:http://elenaschwarz.com/event/swiss-national-orchestra-2025/
LOCATION:1 Casinoplatz\, Bern\, 3011\, Switzerland
CATEGORIES:Concerts
END:VEVENT
END:VCALENDAR