BEGIN:VCALENDAR
VERSION:2.0
PRODID:-//Elena Schwarz - ECPv4.6//NONSGML v1.0//EN
CALSCALE:GREGORIAN
METHOD:PUBLISH
X-WR-CALNAME:Elena Schwarz
X-ORIGINAL-URL:http://elenaschwarz.com
X-WR-CALDESC:Events for Elena Schwarz
BEGIN:VEVENT
DTSTART;TZID=UTC+2:20200116T200000
DTEND;TZID=UTC+2:20200116T213000
DTSTAMP:20260423T023656
CREATED:20191023T193546Z
LAST-MODIFIED:20191023T193546Z
UID:822-1579204800-1579210200@elenaschwarz.com
SUMMARY:Gulbenkian Foundation Lisbon: Sleeping Thousand
DESCRIPTION:Adam Maor\, The Sleeping Thousand: Chamber Opera\nDirection musicale Elena Schwarz\nMise en scène Yonatan Levy\nScénographie Julien Brun\nCostumes Anouk Schiltz\nLumière Omer Shizaf\nDramaturgie Amir Farjoun\nTomasz Kumięga\, Le Premier Ministre\nGan-ya Ben-gur Akselrod\, Nurit\, son assistante\nDavid Salsbery Fry\, S\, le chef des services secrets\nBenjamin Alunni\, Une voix du monde: Ministre de l’Agriculture / Manifestant / Cantor \nEnsemble United Instruments of Lucilin\nProduction Festival d’Aix-en-Provence\nCoproduction Les Théâtres de la Ville de Luxembourg; Helsinki Festival; Calouste Gulbenkian Foundation (Lisbon); Théâtre Royal de La Monnaie / De Munt (Brussels); Queen Elisabeth Music Chapel\nAvec le soutien de enoa and Creative Europe Programme of the European Union\nAvec le soutien de Jean-François Dubos & JFD Associés \n\n\n\n\n\n\n\n\n\n	Related\n
URL:http://elenaschwarz.com/event/sleeping-thousand-gulbenkian/
LOCATION:Avenida de Berna 45A\, Lisbon\, 1050-039\, Portugal
CATEGORIES:Opera
END:VEVENT
END:VCALENDAR