BEGIN:VCALENDAR
VERSION:2.0
PRODID:-//Elena Schwarz - ECPv4.6//NONSGML v1.0//EN
CALSCALE:GREGORIAN
METHOD:PUBLISH
X-WR-CALNAME:Elena Schwarz
X-ORIGINAL-URL:http://elenaschwarz.com
X-WR-CALDESC:Events for Elena Schwarz
BEGIN:VEVENT
DTSTART;TZID=UTC+0:20170219T170000
DTEND;TZID=UTC+0:20170219T190000
DTSTAMP:20260423T005922
CREATED:20160420T133950Z
LAST-MODIFIED:20160609T072631Z
UID:148-1487523600-1487530800@elenaschwarz.com
SUMMARY:Sinfonietta de Lausanne
DESCRIPTION:W.A. Mozart\, Lucio Silla Overture\, K. 135\nW.A. Mozart\, Horn Concert n.4 in E-flat\, K. 495\nAlexander Zemlinksy\, Symphony in D minor\nAstrid Arbouche\, horn \nElena Schwarz\, conductor \n\n\n\n\n\n\n\n\n\n	Related\n
URL:http://elenaschwarz.com/event/sinfonietta-de-lausanne/
LOCATION:Lausanne\, Switzerland
END:VEVENT
END:VCALENDAR