BEGIN:VCALENDAR
VERSION:2.0
PRODID:-//Elena Schwarz - ECPv4.6//NONSGML v1.0//EN
CALSCALE:GREGORIAN
METHOD:PUBLISH
X-WR-CALNAME:Elena Schwarz
X-ORIGINAL-URL:http://elenaschwarz.com
X-WR-CALDESC:Events for Elena Schwarz
BEGIN:VEVENT
DTSTART;TZID=America/Los_Angeles:20241116T193000
DTEND;TZID=America/Los_Angeles:20241116T220000
DTSTAMP:20260422T133225
CREATED:20240521T124458Z
LAST-MODIFIED:20240521T131539Z
UID:1515-1731785400-1731794400@elenaschwarz.com
SUMMARY:San Diego Symphony Orchestra
DESCRIPTION:John Adams The Chairman Dances\nThomas Adès Violin Concerto “Concentric Paths”\, Op. 24\nAntonín Dvořák Symphony no.9 in E minor\, op.95 “From the New World”\n\nSan Diego Symphony Orchestra\nLeila Josefowicz\, Violin\nElena Schwarz\, Conductor\n\n\n\n\n\n\n\n\n\n	Related\n
URL:http://elenaschwarz.com/event/san-diego-symphony-orchestra-2024-1/
LOCATION:1245 Seventh Ave\, San Diego\, CA\, 92101\, United States
CATEGORIES:Concerts
END:VEVENT
END:VCALENDAR