BEGIN:VCALENDAR
VERSION:2.0
PRODID:-//Elena Schwarz - ECPv4.6//NONSGML v1.0//EN
CALSCALE:GREGORIAN
METHOD:PUBLISH
X-WR-CALNAME:Elena Schwarz
X-ORIGINAL-URL:http://elenaschwarz.com
X-WR-CALDESC:Events for Elena Schwarz
BEGIN:VEVENT
DTSTART;TZID=UTC+1:20210402T200000
DTEND;TZID=UTC+1:20210402T220000
DTSTAMP:20260419T175535
CREATED:20210303T194222Z
LAST-MODIFIED:20210320T074652Z
UID:1023-1617393600-1617400800@elenaschwarz.com
SUMMARY:Orchestre Philharmonique Royal de Liège\, Liège - Cancelled
DESCRIPTION:HONEGGER\, Pastorale d’été\nCHOSTAKOVITCH\, Concerto pour violoncelle n° 1\nMOZART\, Symphonie n° 40\nOrchestre Philharmonique Royal de Liège\nCamille Thomas\, violoncelle\nElena Schwarz\, direction\n\n\n\n\n\n\n\n\n\n	Related\n
URL:http://elenaschwarz.com/event/oprl-2021-2/
LOCATION:Boulevard Piercot 25-27\, Liège\, Belgium
CATEGORIES:Concerts
END:VEVENT
END:VCALENDAR