BEGIN:VCALENDAR
VERSION:2.0
PRODID:-//Elena Schwarz - ECPv4.6//NONSGML v1.0//EN
CALSCALE:GREGORIAN
METHOD:PUBLISH
X-WR-CALNAME:Elena Schwarz
X-ORIGINAL-URL:http://elenaschwarz.com
X-WR-CALDESC:Events for Elena Schwarz
BEGIN:VEVENT
DTSTART;TZID=UTC+2:20250612T190000
DTEND;TZID=UTC+2:20250612T200000
DTSTAMP:20260423T075239
CREATED:20250529T144713Z
LAST-MODIFIED:20250529T144713Z
UID:1597-1749754800-1749758400@elenaschwarz.com
SUMMARY:Ensemble Musikfabrik\, Festival Manifeste
DESCRIPTION:Enno Poppe Prozession\nEnsemble Musikfabrik\nElena Schwarz\, direction\n\n\n\n\n\n\n\n\n\n	Related\n
URL:http://elenaschwarz.com/event/musikfabrik-2025-1/
LOCATION:5 rue Curial\, Paris\, 75019\, France
CATEGORIES:Concerts
END:VEVENT
END:VCALENDAR