BEGIN:VCALENDAR
VERSION:2.0
PRODID:-//Elena Schwarz - ECPv4.6//NONSGML v1.0//EN
CALSCALE:GREGORIAN
METHOD:PUBLISH
X-WR-CALNAME:Elena Schwarz
X-ORIGINAL-URL:http://elenaschwarz.com
X-WR-CALDESC:Events for Elena Schwarz
BEGIN:VEVENT
DTSTART;TZID=UTC+2:20200206T193000
DTEND;TZID=UTC+2:20200206T213000
DTSTAMP:20260422T211032
CREATED:20191023T195047Z
LAST-MODIFIED:20191023T200240Z
UID:830-1581017400-1581024600@elenaschwarz.com
SUMMARY:Luzerner Sinfonieorchester: KKL Luzern
DESCRIPTION:\nLudwig van Beethoven (1770 – 1827)\nTripelkonzert für Klavier\, Violine\, Violoncello und Orchester C-Dur op. 56\n–\nLudwig van Beethoven\nSinfonie Nr. 1 C-Dur op. 21\n–\nGeorge Gershwin (1898 – 1937)\nMedley aus «An American in Paris»\, arr. von Bill Elliott\n–\nLeonard Bernstein (1918 – 1990)\nMedley aus «West Side Story»\, arr. von Bill Elliott\n\nLuzerner Sinfonieorchester\nElena Schwarz\, Leitung\nLucienne Renaudin Vary\, Trompete\nGeorge Li\, Klavier\nRenaud Capuçon\, Violine\nEdgar Moreau\, Violoncello\n  \n\n\n\n\n\n\n\n\n\n\n	Related\n
URL:http://elenaschwarz.com/event/luzerner-sinfonieorchester-2020-luzern/
LOCATION:Europaplatz 1\, Luzern\, 6005\, Switzerland
CATEGORIES:Concerts
END:VEVENT
END:VCALENDAR