BEGIN:VCALENDAR
VERSION:2.0
PRODID:-//Elena Schwarz - ECPv4.6//NONSGML v1.0//EN
CALSCALE:GREGORIAN
METHOD:PUBLISH
X-WR-CALNAME:Elena Schwarz
X-ORIGINAL-URL:http://elenaschwarz.com
X-WR-CALDESC:Events for Elena Schwarz
BEGIN:VEVENT
DTSTART;VALUE=DATE:20180812
DTEND;VALUE=DATE:20180812
DTSTAMP:20260422T230329
CREATED:20180731T161827Z
LAST-MODIFIED:20180731T161827Z
UID:597-1534032000-1534118399@elenaschwarz.com
SUMMARY:Louise Crossley Conducting Workshop\, Tasmanian Symphony Orchestra
DESCRIPTION:An opportunity to inspire and engage women conductors\nThe Tasmanian Symphony Orchestra announces a conductor training opportunity\, with a focus on female conductors to be directed by Elena Schwarz.\nNamed in honour of the late Dr Louise Crossley\, whose 2015 bequest was intended to develop and identify opportunities for female conductors\, the Louise Crossley Conducting Workshop will take place in Hobart on August 12\, 2018.\n  \n\n\n\n\n\n\n\n\n\n	Related\n
URL:http://elenaschwarz.com/event/louise-crossley-workshop/
CATEGORIES:Workshop
END:VEVENT
END:VCALENDAR