BEGIN:VCALENDAR
VERSION:2.0
PRODID:-//Elena Schwarz - ECPv4.6//NONSGML v1.0//EN
CALSCALE:GREGORIAN
METHOD:PUBLISH
X-WR-CALNAME:Elena Schwarz
X-ORIGINAL-URL:http://elenaschwarz.com
X-WR-CALDESC:Events for Elena Schwarz
BEGIN:VEVENT
DTSTART;TZID=Europe/Vienna:20250127T190000
DTEND;TZID=Europe/Vienna:20250127T213000
DTSTAMP:20260421T082227
CREATED:20240521T131850Z
LAST-MODIFIED:20240521T131915Z
UID:1538-1738004400-1738013400@elenaschwarz.com
SUMMARY:Klangforum Wien
DESCRIPTION:Wolfgang Mitterer “tritsch tratsch” – johann strauss II – great hits / a remix (UA)\nKlangforum Wien\nElena Schwarz\, Conductor\n\n\n\n\n\n\n\n\n\n	Related\n
URL:http://elenaschwarz.com/event/klangforum-wien/
LOCATION:Lothringerstraße 20\, Wien\, 1030\, Austria
CATEGORIES:Concerts
END:VEVENT
END:VCALENDAR