BEGIN:VCALENDAR
VERSION:2.0
PRODID:-//Elena Schwarz - ECPv4.6//NONSGML v1.0//EN
CALSCALE:GREGORIAN
METHOD:PUBLISH
X-WR-CALNAME:Elena Schwarz
X-ORIGINAL-URL:http://elenaschwarz.com
X-WR-CALDESC:Events for Elena Schwarz
BEGIN:VEVENT
DTSTART;TZID=Europe/Helsinki:20220408T190000
DTEND;TZID=Europe/Helsinki:20220408T210000
DTSTAMP:20260423T075354
CREATED:20220223T133806Z
LAST-MODIFIED:20220223T133806Z
UID:1083-1649444400-1649451600@elenaschwarz.com
SUMMARY:Helsinki Philharmonic
DESCRIPTION:\n\n\n\n\nVito Žuraj Api-danza macabra\n\n\n\n\n\n\n\n\n\n\n\nMieczysław Weinberg Cello concerto\n\n\n\n\n\n\n\n\n\n\n\nBohuslav Martinů Symphony n.1\n\n\n\n\n\n\nAlban Gerhardt\, Cello\nElena Schwarz\, Conductor\n\n\n\n\n\n\n\n\n\n	Related\n
URL:http://elenaschwarz.com/event/helsinki-phil-2022/
LOCATION:Mannerheimintie 13a\, Helsinki\, 00100\, Finland
CATEGORIES:Concerts
END:VEVENT
END:VCALENDAR