BEGIN:VCALENDAR
VERSION:2.0
PRODID:-//Elena Schwarz - ECPv4.6//NONSGML v1.0//EN
CALSCALE:GREGORIAN
METHOD:PUBLISH
X-WR-CALNAME:Elena Schwarz
X-ORIGINAL-URL:http://elenaschwarz.com
X-WR-CALDESC:Events for Elena Schwarz
BEGIN:VEVENT
DTSTART;TZID=Europe/Berlin:20230606T193000
DTEND;TZID=Europe/Berlin:20230606T213000
DTSTAMP:20260419T170111
CREATED:20220827T120438Z
LAST-MODIFIED:20220827T120438Z
UID:1254-1686079800-1686087000@elenaschwarz.com
SUMMARY:Bremer Philharmoniker
DESCRIPTION:\nLotta Wennäkoski Hava\n\n\nRichard Strauss Konzert für Oboe und kleines Orchester D-Dur AV 144\n\n\nJean Sibelius Lemminkäinen-Suite op. 22 (Vier Legenden)\n\n\nBremer Philharmoniker\nIvan Podyomov Oboe\nElena Schwarz Dirigentin\n\n\n\n\n\n\n\n\n\n\n	Related\n
URL:http://elenaschwarz.com/event/bremer-philharmoniker-2023-2/
LOCATION:Domsheide 6-8\, Bremen\, 28195\, Germany
CATEGORIES:Concerts
END:VEVENT
END:VCALENDAR