BEGIN:VCALENDAR
VERSION:2.0
PRODID:-//Elena Schwarz - ECPv4.6//NONSGML v1.0//EN
CALSCALE:GREGORIAN
METHOD:PUBLISH
X-WR-CALNAME:Elena Schwarz
X-ORIGINAL-URL:http://elenaschwarz.com
X-WR-CALDESC:Events for Elena Schwarz
BEGIN:VEVENT
DTSTART;TZID=UTC+0:20211106T193000
DTEND;TZID=UTC+0:20211106T213000
DTSTAMP:20260421T123904
CREATED:20211009T123459Z
LAST-MODIFIED:20211009T123459Z
UID:1039-1636227000-1636234200@elenaschwarz.com
SUMMARY:BBC Philharmonic - Weill\, Coult\, Ravel
DESCRIPTION:Kurt Weill Symphony No. 2 \nTom Coult Pleasure Garden for violin and orchestra *World Premiere \nMaurice Ravel Mother Goose\, Complete Ballet  \n  \nDaniel Pioro\, violin \nElena Schwarz\, conductor \nBBC Philharmonic\n  \n\n\n\n\n\n\n\n\n\n	Related\n
URL:http://elenaschwarz.com/event/bbc-phil-2021/
LOCATION:Lower Mosley Street\, Manchester\, GB M2 3WS\, United Kingdom
CATEGORIES:Concerts
END:VEVENT
END:VCALENDAR