BEGIN:VCALENDAR
VERSION:2.0
PRODID:-//Elena Schwarz - ECPv4.6//NONSGML v1.0//EN
CALSCALE:GREGORIAN
METHOD:PUBLISH
X-WR-CALNAME:Elena Schwarz
X-ORIGINAL-URL:http://elenaschwarz.com
X-WR-CALDESC:Events for Elena Schwarz
BEGIN:VEVENT
DTSTART;TZID=Europe/Zurich:20260118T190000
DTEND;TZID=Europe/Zurich:20260118T213000
DTSTAMP:20260421T094813
CREATED:20251117T203711Z
LAST-MODIFIED:20251117T203831Z
UID:1718-1768762800-1768771800@elenaschwarz.com
SUMMARY:Basel Sinfonietta
DESCRIPTION:\nSivan Eldar Una mujer derramada\nCassandra Miller I cannot love without trembling\nJoana Aderi Lizard WP\nAmyra León 23 Days WP\nSara Glojnarić sugarcoating #4\nBasel Sinfonietta\nAmyra León\, SINGER\nGeneviève Strosser\, VIOLIST\nElena Schwarz\, CONDUCTOR\n\n\n\n\n\n\n\n\n\n\n\n	Related\n
URL:http://elenaschwarz.com/event/basel-sinfonietta-2026/
LOCATION:Konzertgasse 1\, Basel\, 4051\, Switzerland
CATEGORIES:Concerts
END:VEVENT
END:VCALENDAR