BEGIN:VCALENDAR
VERSION:2.0
PRODID:-//Elena Schwarz - ECPv4.6//NONSGML v1.0//EN
CALSCALE:GREGORIAN
METHOD:PUBLISH
X-WR-CALNAME:Elena Schwarz
X-ORIGINAL-URL:http://elenaschwarz.com
X-WR-CALDESC:Events for Elena Schwarz
BEGIN:VEVENT
DTSTART;VALUE=DATE:20171017
DTEND;VALUE=DATE:20171018
DTSTAMP:20260423T005852
CREATED:20170929T163416Z
LAST-MODIFIED:20170929T163416Z
UID:568-1508198400-1508371199@elenaschwarz.com
SUMMARY:Australian Women Composers' Development Program
DESCRIPTION:With the Tasmanian Symphony Orchestra\nFeaturing four composers from the Sydney Conservatorium of Music’s Composing Women Program:\nElla Macens\nNatalie Nicolas\nElizabeth Younan\nClare Johnston\n  \n\n\n\n\n\n\n\n\n\n	Related\n
URL:http://elenaschwarz.com/event/australian-women-composers/
CATEGORIES:Workshop
END:VEVENT
END:VCALENDAR