BEGIN:VCALENDAR
VERSION:2.0
PRODID:-//Elena Schwarz - ECPv4.6//NONSGML v1.0//EN
CALSCALE:GREGORIAN
METHOD:PUBLISH
X-WR-CALNAME:Elena Schwarz
X-ORIGINAL-URL:http://elenaschwarz.com
X-WR-CALDESC:Events for Elena Schwarz
BEGIN:VEVENT
DTSTART;TZID=Pacific/Auckland:20230615T193000
DTEND;TZID=Pacific/Auckland:20230615T220000
DTSTAMP:20260419T151819
CREATED:20230204T105107Z
LAST-MODIFIED:20230204T105107Z
UID:1305-1686857400-1686866400@elenaschwarz.com
SUMMARY:Auckland Philharmonia
DESCRIPTION:Copland Appalachian Spring\nSaariaho Aile du Songe\nCopland Quiet City\nRavel Mother Goose (complete ballet) \nAuckland Philharmonia\nFlute Ana de la Vega\nConductor Elena Schwarz \n  \nThe Finnish composer Kaija Saariaho is particularly fond of the ﬂute\, and in her 2001 concerto Aile du Songe the soloist is like ‘a lone\, high ﬂying bird whose shadow forms different images’. Outstanding Australian ﬂautist Ana de la Vega soars in this delicate\, ethereal music. \nCopland’s meditative Quiet City\, and especially his evergreen Appalachian Spring\, are hymns to an America of open air\, small towns\, wide horizons. \nRavel’s fairytale ballet is a seamless ﬂow of enchantment\, ﬁnishing with a rapturous vision of a magical garden. \n  \n\n\n\n\n\n\n\n\n\n	Related\n
URL:http://elenaschwarz.com/event/auckland-philharmonia/
LOCATION:301 Queen Street\, Auckland\, 1010\, New Zealand
CATEGORIES:Concerts
END:VEVENT
END:VCALENDAR